BEGIN:VCALENDAR
VERSION:2.0
PRODID:-//Yvonne van Seters-Stoop - ECPv6.15.20//NONSGML v1.0//EN
CALSCALE:GREGORIAN
METHOD:PUBLISH
X-ORIGINAL-URL:https://yvonnevanseters-stoop.nl
X-WR-CALDESC:Evenementen voor Yvonne van Seters-Stoop
REFRESH-INTERVAL;VALUE=DURATION:PT1H
X-Robots-Tag:noindex
X-PUBLISHED-TTL:PT1H
BEGIN:VTIMEZONE
TZID:Europe/Amsterdam
BEGIN:DAYLIGHT
TZOFFSETFROM:+0100
TZOFFSETTO:+0200
TZNAME:CEST
DTSTART:20250330T010000
END:DAYLIGHT
BEGIN:STANDARD
TZOFFSETFROM:+0200
TZOFFSETTO:+0100
TZNAME:CET
DTSTART:20251026T010000
END:STANDARD
BEGIN:DAYLIGHT
TZOFFSETFROM:+0100
TZOFFSETTO:+0200
TZNAME:CEST
DTSTART:20260329T010000
END:DAYLIGHT
BEGIN:STANDARD
TZOFFSETFROM:+0200
TZOFFSETTO:+0100
TZNAME:CET
DTSTART:20261025T010000
END:STANDARD
BEGIN:DAYLIGHT
TZOFFSETFROM:+0100
TZOFFSETTO:+0200
TZNAME:CEST
DTSTART:20270328T010000
END:DAYLIGHT
BEGIN:STANDARD
TZOFFSETFROM:+0200
TZOFFSETTO:+0100
TZNAME:CET
DTSTART:20271031T010000
END:STANDARD
END:VTIMEZONE
BEGIN:VEVENT
DTSTART;TZID=Europe/Amsterdam:20260705T130000
DTEND;TZID=Europe/Amsterdam:20260705T170000
DTSTAMP:20260421T103532
CREATED:20260420T151638Z
LAST-MODIFIED:20260420T152157Z
UID:192-1783256400-1783270800@yvonnevanseters-stoop.nl
SUMMARY:Expositie Kunstroute Zierikzee
DESCRIPTION:
URL:https://yvonnevanseters-stoop.nl/expositie/expositie-kunstroute
LOCATION:De Mossele\, Havenpark 53\, Zierikzee\, Zeeland\, 4301 JH\, Netherlands
END:VEVENT
BEGIN:VEVENT
DTSTART;TZID=Europe/Amsterdam:20260802T130000
DTEND;TZID=Europe/Amsterdam:20260802T170000
DTSTAMP:20260421T103532
CREATED:20260420T152303Z
LAST-MODIFIED:20260420T152303Z
UID:195-1785675600-1785690000@yvonnevanseters-stoop.nl
SUMMARY:Expositie Kunstroute Zierikzee
DESCRIPTION:
URL:https://yvonnevanseters-stoop.nl/expositie/expositie-kunstroute-zierikzee
LOCATION:De Mossele\, Havenpark 53\, Zierikzee\, Zeeland\, 4301 JH\, Netherlands
END:VEVENT
BEGIN:VEVENT
DTSTART;TZID=Europe/Amsterdam:20260906T130000
DTEND;TZID=Europe/Amsterdam:20260906T170000
DTSTAMP:20260421T103532
CREATED:20260420T152351Z
LAST-MODIFIED:20260420T152434Z
UID:197-1788699600-1788714000@yvonnevanseters-stoop.nl
SUMMARY:Expositie Kunstroute Zierikzee
DESCRIPTION:
URL:https://yvonnevanseters-stoop.nl/expositie/expositie-kunstroute-zierikzee-2
LOCATION:De Mossele\, Havenpark 53\, Zierikzee\, Zeeland\, 4301 JH\, Netherlands
END:VEVENT
BEGIN:VEVENT
DTSTART;TZID=Europe/Amsterdam:20261004T130000
DTEND;TZID=Europe/Amsterdam:20261004T170000
DTSTAMP:20260421T103532
CREATED:20260420T152518Z
LAST-MODIFIED:20260420T152518Z
UID:199-1791118800-1791133200@yvonnevanseters-stoop.nl
SUMMARY:Expositie Kunstroute Zierikzee
DESCRIPTION:
URL:https://yvonnevanseters-stoop.nl/expositie/expositie-kunstroute-zierikzee-3
LOCATION:De Mossele\, Havenpark 53\, Zierikzee\, Zeeland\, 4301 JH\, Netherlands
END:VEVENT
END:VCALENDAR